BEGIN:VCALENDAR
VERSION:2.0
PRODID:-//Merion Station Townhouse Association - ECPv6.15.20//NONSGML v1.0//EN
CALSCALE:GREGORIAN
METHOD:PUBLISH
X-WR-CALNAME:Merion Station Townhouse Association
X-ORIGINAL-URL:https://merionstation.org
X-WR-CALDESC:Events for Merion Station Townhouse Association
REFRESH-INTERVAL;VALUE=DURATION:PT1H
X-Robots-Tag:noindex
X-PUBLISHED-TTL:PT1H
BEGIN:VTIMEZONE
TZID:America/New_York
BEGIN:DAYLIGHT
TZOFFSETFROM:-0500
TZOFFSETTO:-0400
TZNAME:EDT
DTSTART:20250309T070000
END:DAYLIGHT
BEGIN:STANDARD
TZOFFSETFROM:-0400
TZOFFSETTO:-0500
TZNAME:EST
DTSTART:20251102T060000
END:STANDARD
BEGIN:DAYLIGHT
TZOFFSETFROM:-0500
TZOFFSETTO:-0400
TZNAME:EDT
DTSTART:20260308T070000
END:DAYLIGHT
BEGIN:STANDARD
TZOFFSETFROM:-0400
TZOFFSETTO:-0500
TZNAME:EST
DTSTART:20261101T060000
END:STANDARD
BEGIN:DAYLIGHT
TZOFFSETFROM:-0500
TZOFFSETTO:-0400
TZNAME:EDT
DTSTART:20270314T070000
END:DAYLIGHT
BEGIN:STANDARD
TZOFFSETFROM:-0400
TZOFFSETTO:-0500
TZNAME:EST
DTSTART:20271107T060000
END:STANDARD
END:VTIMEZONE
BEGIN:VEVENT
DTSTART;TZID=America/New_York:20260430T190000
DTEND;TZID=America/New_York:20260430T203000
DTSTAMP:20260423T053346
CREATED:20260418T182843Z
LAST-MODIFIED:20260418T182843Z
UID:1483-1777575600-1777581000@merionstation.org
SUMMARY:Lets Chat-Garden
DESCRIPTION:Overview\n\n\n\nBuild a garden that can handle real-life conditions. Get expert guidance\, personalized support\, and free seeds to help \n\n\n\n\nWelcome to Let’s Chat Garden: Building Resilient Gardens \nJoin us for an evening of connection\, learning\, and real support for your garden. This session is focused on one of the most important skills for today’s gardener—how to build a resilient garden that can thrive through changing weather\, pests\, and uncertainty. \n\nRegister here: www.eventbrite.com/e/lets-chat-garden-tickets-1986346673371?aff=erelexpmlt \n\nWhether you’re just getting started or feeling stuck after seasons of trial and error\, this space is designed to help you move forward with clarity and confidence. \nWhat you’ll gain: \n\nPractical strategies to make your garden more resilient this season\nGuidance from a Certified Permaculture Designer with 18+ years of experience\nPersonalized answers to your garden challenges\nA welcoming community of gardeners learning alongside you\nFree seeds to support your next steps at home\n\nThis is not just a conversation—it’s a chance to stop wasting time and money on guesswork and start working with your garden in a way that actually works.
URL:https://merionstation.org/calendar/lets-chat-garden/
LOCATION:MD
END:VEVENT
END:VCALENDAR